BEGIN:VCALENDAR
VERSION:2.0
PRODID:-//time.you/holidays//NONSGML v1.0//EN
BEGIN:VEVENT
UID:62563b27-ebb7-46e5-980a-dca95e9793d7
DTSTAMP:20260421T155842Z
DTSTART;VALUE=DATE:20260815
SUMMARY:Assumption Day (Saint Pierre and Miquelon)
END:VEVENT
END:VCALENDAR