BEGIN:VCALENDAR
VERSION:2.0
PRODID:-//time.you/holidays//NONSGML v1.0//EN
BEGIN:VEVENT
UID:9bcc31ca-5ceb-4462-a979-b620a117f7a6
DTSTAMP:20260420T064727Z
DTSTART;VALUE=DATE:20260501
SUMMARY:Labor Day (Saint Pierre and Miquelon)
END:VEVENT
END:VCALENDAR