BEGIN:VCALENDAR
VERSION:2.0
PRODID:-//time.you/holidays//NONSGML v1.0//EN
BEGIN:VEVENT
UID:ff32926f-636b-4bd7-b067-7f8ff36f406a
DTSTAMP:20260420T080824Z
DTSTART;VALUE=DATE:20260714
SUMMARY:National Day (Saint Pierre and Miquelon)
END:VEVENT
END:VCALENDAR