BEGIN:VCALENDAR
VERSION:2.0
PRODID:-//time.you/holidays//NONSGML v1.0//EN
BEGIN:VEVENT
UID:da11e707-1cd9-447c-9352-def386c84511
DTSTAMP:20260419T234913Z
DTSTART;VALUE=DATE:20260101
SUMMARY:New Year's Day (Saint Pierre and Miquelon)
END:VEVENT
END:VCALENDAR