BEGIN:VCALENDAR
VERSION:2.0
PRODID:-//time.you/holidays//NONSGML v1.0//EN
BEGIN:VEVENT
UID:5098c768-4260-4ce8-81e1-b246fa44dfa3
DTSTAMP:20260420T021812Z
DTSTART;VALUE=DATE:20261226
SUMMARY:Boxing Day (Saint Vincent and the Grenadines)
END:VEVENT
END:VCALENDAR