BEGIN:VCALENDAR
VERSION:2.0
PRODID:-//time.you/holidays//NONSGML v1.0//EN
BEGIN:VEVENT
UID:b2dc32f2-a9d5-4bf8-81bf-87dd1f9ca5aa
DTSTAMP:20260420T152945Z
DTSTART;VALUE=DATE:20331227
SUMMARY:Christmas Day (observed) (Saint Vincent and the Grenadines)
END:VEVENT
END:VCALENDAR