BEGIN:VCALENDAR
VERSION:2.0
PRODID:-//time.you/holidays//NONSGML v1.0//EN
BEGIN:VEVENT
UID:880655d0-eb94-45a1-93d7-4217a6f054f8
DTSTAMP:20260420T013826Z
DTSTART;VALUE=DATE:20261225
SUMMARY:Christmas Day (Saint Vincent and the Grenadines)
END:VEVENT
END:VCALENDAR