BEGIN:VCALENDAR
VERSION:2.0
PRODID:-//time.you/holidays//NONSGML v1.0//EN
BEGIN:VEVENT
UID:7c3b656e-e421-4e8b-8573-b19f718651fd
DTSTAMP:20260419T233549Z
DTSTART;VALUE=DATE:20260406
SUMMARY:Easter Monday (Saint Vincent and the Grenadines)
END:VEVENT
END:VCALENDAR