BEGIN:VCALENDAR
VERSION:2.0
PRODID:-//time.you/holidays//NONSGML v1.0//EN
BEGIN:VEVENT
UID:738f51db-e7d1-47db-bac6-6d07518f789b
DTSTAMP:20260421T222332Z
DTSTART;VALUE=DATE:20260801
SUMMARY:Emancipation Day (Saint Vincent and the Grenadines)
END:VEVENT
END:VCALENDAR