BEGIN:VCALENDAR
VERSION:2.0
PRODID:-//time.you/holidays//NONSGML v1.0//EN
BEGIN:VEVENT
UID:47010a2d-c9c3-4204-ad66-3e86625bc54e
DTSTAMP:20260420T113805Z
DTSTART;VALUE=DATE:20301028
SUMMARY:Independence Day (observed) (Saint Vincent and the Grenadines)
END:VEVENT
END:VCALENDAR