BEGIN:VCALENDAR
VERSION:2.0
PRODID:-//time.you/holidays//NONSGML v1.0//EN
BEGIN:VEVENT
UID:0d23cf97-fd28-4e36-919d-7c7860d4e97c
DTSTAMP:20260421T202707Z
DTSTART;VALUE=DATE:20261027
SUMMARY:Independence Day (Saint Vincent and the Grenadines)
END:VEVENT
END:VCALENDAR