BEGIN:VCALENDAR
VERSION:2.0
PRODID:-//time.you/holidays//NONSGML v1.0//EN
BEGIN:VEVENT
UID:2bad8670-9d49-45bf-a6cb-d8d0a496bff8
DTSTAMP:20260422T033426Z
DTSTART;VALUE=DATE:20260314
SUMMARY:National Heroes' Day (Saint Vincent and the Grenadines)
END:VEVENT
END:VCALENDAR