BEGIN:VCALENDAR
VERSION:2.0
PRODID:-//time.you/holidays//NONSGML v1.0//EN
BEGIN:VEVENT
UID:9bab8f33-58d0-463a-b9bb-9ede2256e387
DTSTAMP:20260421T205801Z
DTSTART;VALUE=DATE:20260501
SUMMARY:National Workers' Day (Saint Vincent and the Grenadines)
END:VEVENT
END:VCALENDAR