BEGIN:VCALENDAR
VERSION:2.0
PRODID:-//time.you/holidays//NONSGML v1.0//EN
BEGIN:VEVENT
UID:b6dacf39-dcc2-41bf-b506-3c3b27d53019
DTSTAMP:20260421T205354Z
DTSTART;VALUE=DATE:20260525
SUMMARY:Whit Monday (Saint Vincent and the Grenadines)
END:VEVENT
END:VCALENDAR