BEGIN:VCALENDAR
VERSION:2.0
PRODID:-//time.you/holidays//NONSGML v1.0//EN
BEGIN:VEVENT
UID:800ae50b-fce3-453b-aa82-c56ceff8a062
DTSTAMP:20260421T143425Z
DTSTART;VALUE=DATE:20261226
SUMMARY:Boxing Day (Samoa)
END:VEVENT
END:VCALENDAR