BEGIN:VCALENDAR
VERSION:2.0
PRODID:-//time.you/holidays//NONSGML v1.0//EN
BEGIN:VEVENT
UID:ffb3c7fa-7757-46ce-80ea-3862c089ff78
DTSTAMP:20260421T000000Z
DTSTART;VALUE=DATE:20261225
SUMMARY:Christmas Day (Samoa)
END:VEVENT
END:VCALENDAR