BEGIN:VCALENDAR
VERSION:2.0
PRODID:-//time.you/holidays//NONSGML v1.0//EN
BEGIN:VEVENT
UID:3c7e9a9f-4efe-4727-b713-2b2b31d9b22d
DTSTAMP:20260420T170443Z
DTSTART;VALUE=DATE:20260406
SUMMARY:Easter Monday (Samoa)
END:VEVENT
END:VCALENDAR