BEGIN:VCALENDAR
VERSION:2.0
PRODID:-//time.you/holidays//NONSGML v1.0//EN
BEGIN:VEVENT
UID:4d3e9b9d-7106-4f09-88ff-5e86744cd942
DTSTAMP:20260422T015519Z
DTSTART;VALUE=DATE:20260102
SUMMARY:The Day After New Year's Day (Samoa)
END:VEVENT
END:VCALENDAR