BEGIN:VCALENDAR
VERSION:2.0
PRODID:-//time.you/holidays//NONSGML v1.0//EN
BEGIN:VEVENT
UID:1f2c7fdf-62e6-4d37-b23a-985cd80feddd
DTSTAMP:20260421T224735Z
DTSTART;VALUE=DATE:20261012
SUMMARY:White Sunday (Lotu a Tamaiti) (Samoa)
END:VEVENT
END:VCALENDAR