BEGIN:VCALENDAR
VERSION:2.0
PRODID:-//time.you/holidays//NONSGML v1.0//EN
BEGIN:VEVENT
UID:d54681e2-3f34-4b4f-8d6c-ff79d9d7bac2
DTSTAMP:20260424T164819Z
DTSTART;VALUE=DATE:20260728
SUMMARY:Anniversary of the Fall of Fascism and Freedom Day (San Marino)
END:VEVENT
END:VCALENDAR