BEGIN:VCALENDAR
VERSION:2.0
PRODID:-//time.you/holidays//NONSGML v1.0//EN
BEGIN:VEVENT
UID:75775a71-a3cb-452e-9bb4-86f42657f002
DTSTAMP:20260421T221218Z
DTSTART;VALUE=DATE:20260205
SUMMARY:Anniversary of the Liberation of the Republic and Feast of Saint Agatha (San Marino)
END:VEVENT
END:VCALENDAR