BEGIN:VCALENDAR
VERSION:2.0
PRODID:-//time.you/holidays//NONSGML v1.0//EN
BEGIN:VEVENT
UID:207e6c45-080e-4b7e-87b1-3aa14db811c1
DTSTAMP:20260420T104536Z
DTSTART;VALUE=DATE:20260815
SUMMARY:Assumption Day (San Marino)
END:VEVENT
END:VCALENDAR