BEGIN:VCALENDAR
VERSION:2.0
PRODID:-//time.you/holidays//NONSGML v1.0//EN
BEGIN:VEVENT
UID:f63cc20d-18dc-4fb7-8e17-3e344575bab1
DTSTAMP:20260421T154304Z
DTSTART;VALUE=DATE:20260406
SUMMARY:Easter Monday (San Marino)
END:VEVENT
END:VCALENDAR