BEGIN:VCALENDAR
VERSION:2.0
PRODID:-//time.you/holidays//NONSGML v1.0//EN
BEGIN:VEVENT
UID:d48da53b-12f1-4b6f-8cea-a451ca960450
DTSTAMP:20260424T003800Z
DTSTART;VALUE=DATE:20260405
SUMMARY:Easter Sunday (San Marino)
END:VEVENT
END:VCALENDAR