BEGIN:VCALENDAR
VERSION:2.0
PRODID:-//time.you/holidays//NONSGML v1.0//EN
BEGIN:VEVENT
UID:f20cf067-d5b6-4364-a8ab-ff04f90affae
DTSTAMP:20260420T110904Z
DTSTART;VALUE=DATE:20260106
SUMMARY:Epiphany (San Marino)
END:VEVENT
END:VCALENDAR