BEGIN:VCALENDAR
VERSION:2.0
PRODID:-//time.you/holidays//NONSGML v1.0//EN
BEGIN:VEVENT
UID:f211da1d-2bd4-491c-acdb-18ec1b77868e
DTSTAMP:20260421T231126Z
DTSTART;VALUE=DATE:20261226
SUMMARY:Saint Stephen's Day (San Marino)
END:VEVENT
END:VCALENDAR