BEGIN:VCALENDAR
VERSION:2.0
PRODID:-//time.you/holidays//NONSGML v1.0//EN
BEGIN:VEVENT
UID:fefff4cb-f8dd-4e3d-ae4f-4cb97c040a2f
DTSTAMP:20260421T194730Z
DTSTART;VALUE=DATE:20260930
SUMMARY:Agricultural Reform Day (Sao Tome and Principe)
END:VEVENT
END:VCALENDAR