BEGIN:VCALENDAR
VERSION:2.0
PRODID:-//time.you/holidays//NONSGML v1.0//EN
BEGIN:VEVENT
UID:b20c818b-ed28-4dd1-b646-296706aeff83
DTSTAMP:20260421T194521Z
DTSTART;VALUE=DATE:20260907
SUMMARY:Armed Forces Day (observed) (Sao Tome and Principe)
END:VEVENT
END:VCALENDAR