BEGIN:VCALENDAR
VERSION:2.0
PRODID:-//time.you/holidays//NONSGML v1.0//EN
BEGIN:VEVENT
UID:e0699321-c9a8-4030-8865-dd56bebcbf02
DTSTAMP:20260424T164908Z
DTSTART;VALUE=DATE:20260105
SUMMARY:Day of King Amador (observed) (Sao Tome and Principe)
END:VEVENT
END:VCALENDAR