BEGIN:VCALENDAR
VERSION:2.0
PRODID:-//time.you/holidays//NONSGML v1.0//EN
BEGIN:VEVENT
UID:15a25488-87f1-43a2-a27a-608244ea007a
DTSTAMP:20260420T013826Z
DTSTART;VALUE=DATE:20260713
SUMMARY:Independence Day (observed) (Sao Tome and Principe)
END:VEVENT
END:VCALENDAR