BEGIN:VCALENDAR
VERSION:2.0
PRODID:-//time.you/holidays//NONSGML v1.0//EN
BEGIN:VEVENT
UID:7b106947-e512-4fc4-97cd-d7fa6f2fb9a4
DTSTAMP:20260420T062526Z
DTSTART;VALUE=DATE:20260101
SUMMARY:New Year's Day (Sao Tome and Principe)
END:VEVENT
END:VCALENDAR