BEGIN:VCALENDAR
VERSION:2.0
PRODID:-//time.you/holidays//NONSGML v1.0//EN
BEGIN:VEVENT
UID:c485b911-7d79-42a2-99a8-2ffaf0e90b45
DTSTAMP:20260424T131644Z
DTSTART;VALUE=DATE:20260814
SUMMARY:São Lourenço Day (observed) (Sao Tome and Principe)
END:VEVENT
END:VCALENDAR