BEGIN:VCALENDAR
VERSION:2.0
PRODID:-//time.you/holidays//NONSGML v1.0//EN
BEGIN:VEVENT
UID:a0ce6e02-3f03-4340-bf1d-af03fe008224
DTSTAMP:20260422T071920Z
DTSTART;VALUE=DATE:20260815
SUMMARY:São Lourenço Day (Sao Tome and Principe)
END:VEVENT
END:VCALENDAR