BEGIN:VCALENDAR
VERSION:2.0
PRODID:-//time.you/holidays//NONSGML v1.0//EN
BEGIN:VEVENT
UID:619a8edb-20fe-4f94-8011-6fd092215993
DTSTAMP:20260420T150720Z
DTSTART;VALUE=DATE:20221123
SUMMARY:A National Day (Saudi Arabia)
END:VEVENT
END:VCALENDAR