BEGIN:VCALENDAR
VERSION:2.0
PRODID:-//time.you/holidays//NONSGML v1.0//EN
BEGIN:VEVENT
UID:9706cb09-26fd-4b4e-8f82-502ec015ed14
DTSTAMP:20260420T084909Z
DTSTART;VALUE=DATE:20260323
SUMMARY:Eid al-Fitr Holiday (observed) (Saudi Arabia)
END:VEVENT
END:VCALENDAR