BEGIN:VCALENDAR
VERSION:2.0
PRODID:-//time.you/holidays//NONSGML v1.0//EN
BEGIN:VEVENT
UID:fdf5d78f-fc2c-43b1-be9a-5cf66b9c122c
DTSTAMP:20260421T223644Z
DTSTART;VALUE=DATE:20300221
SUMMARY:Founding Day Holiday (observed) (Saudi Arabia)
END:VEVENT
END:VCALENDAR