BEGIN:VCALENDAR
VERSION:2.0
PRODID:-//time.you/holidays//NONSGML v1.0//EN
BEGIN:VEVENT
UID:2d6e2a37-510f-4820-8393-4a609caf71b3
DTSTAMP:20260421T184146Z
DTSTART;VALUE=DATE:20260222
SUMMARY:Founding Day Holiday (Saudi Arabia)
END:VEVENT
END:VCALENDAR