BEGIN:VCALENDAR
VERSION:2.0
PRODID:-//time.you/holidays//NONSGML v1.0//EN
BEGIN:VEVENT
UID:9b84f0d8-e427-4b04-a01f-206b6dc92ef2
DTSTAMP:20260421T223910Z
DTSTART;VALUE=DATE:20280924
SUMMARY:National Day Holiday (observed) (Saudi Arabia)
END:VEVENT
END:VCALENDAR