BEGIN:VCALENDAR
VERSION:2.0
PRODID:-//time.you/holidays//NONSGML v1.0//EN
BEGIN:VEVENT
UID:1972b6c8-6315-4c72-a407-42f42d7283b9
DTSTAMP:20260422T051746Z
DTSTART;VALUE=DATE:20270517
SUMMARY:Eid al-Adha (observed, estimated); Whit Monday (Senegal)
END:VEVENT
END:VCALENDAR