BEGIN:VCALENDAR
VERSION:2.0
PRODID:-//time.you/holidays//NONSGML v1.0//EN
BEGIN:VEVENT
UID:9d2f576f-36c7-4c30-b6e3-a2391c361c00
DTSTAMP:20260420T115444Z
DTSTART;VALUE=DATE:20240617
SUMMARY:Eid al-Adha (Senegal)
END:VEVENT
END:VCALENDAR