BEGIN:VCALENDAR
VERSION:2.0
PRODID:-//time.you/holidays//NONSGML v1.0//EN
BEGIN:VEVENT
UID:a4cfd56e-e9d2-4e00-8a49-5fc16bdce5cd
DTSTAMP:20260422T052940Z
DTSTART;VALUE=DATE:20250331
SUMMARY:Eid al-Fitr (observed) (Senegal)
END:VEVENT
END:VCALENDAR