BEGIN:VCALENDAR
VERSION:2.0
PRODID:-//time.you/holidays//NONSGML v1.0//EN
BEGIN:VEVENT
UID:6a35a690-b414-424e-a1bb-a9bc0be63ba0
DTSTAMP:20260420T055044Z
DTSTART;VALUE=DATE:20260801
SUMMARY:Grand Magal of Touba (estimated) (Senegal)
END:VEVENT
END:VCALENDAR