BEGIN:VCALENDAR
VERSION:2.0
PRODID:-//time.you/holidays//NONSGML v1.0//EN
BEGIN:VEVENT
UID:a19697f2-59a0-4ef6-8c03-c3294f88fa3c
DTSTAMP:20260420T204646Z
DTSTART;VALUE=DATE:20260501
SUMMARY:Labor Day (Senegal)
END:VEVENT
END:VCALENDAR