BEGIN:VCALENDAR
VERSION:2.0
PRODID:-//time.you/holidays//NONSGML v1.0//EN
BEGIN:VEVENT
UID:5f733979-8747-4f56-90b3-769aff9c1cb2
DTSTAMP:20260421T215118Z
DTSTART;VALUE=DATE:20240915
SUMMARY:Prophet's Birthday (Senegal)
END:VEVENT
END:VCALENDAR