BEGIN:VCALENDAR
VERSION:2.0
PRODID:-//time.you/holidays//NONSGML v1.0//EN
BEGIN:VEVENT
UID:4b0bd989-bad6-4d2b-8193-3f725af3bf87
DTSTAMP:20260421T011640Z
DTSTART;VALUE=DATE:20221226
SUMMARY:Public holiday (Senegal)
END:VEVENT
END:VCALENDAR