BEGIN:VCALENDAR
VERSION:2.0
PRODID:-//time.you/holidays//NONSGML v1.0//EN
BEGIN:VEVENT
UID:2da72b20-41eb-4637-a238-650955c00380
DTSTAMP:20260420T190226Z
DTSTART;VALUE=DATE:20260525
SUMMARY:Whit Monday (Senegal)
END:VEVENT
END:VCALENDAR