BEGIN:VCALENDAR
VERSION:2.0
PRODID:-//time.you/holidays//NONSGML v1.0//EN
BEGIN:VEVENT
UID:6e5f7d44-fb48-4aef-8170-99f5e761b9ba
DTSTAMP:20260419T233609Z
DTSTART;VALUE=DATE:20261111
SUMMARY:Armistice Day (Serbia)
END:VEVENT
END:VCALENDAR