BEGIN:VCALENDAR
VERSION:2.0
PRODID:-//time.you/holidays//NONSGML v1.0//EN
BEGIN:VEVENT
UID:eb8553f8-9015-41e2-b3d0-8374df53af44
DTSTAMP:20260420T184910Z
DTSTART;VALUE=DATE:20260413
SUMMARY:Easter Monday (Serbia)
END:VEVENT
END:VCALENDAR