BEGIN:VCALENDAR
VERSION:2.0
PRODID:-//time.you/holidays//NONSGML v1.0//EN
BEGIN:VEVENT
UID:943cc4ef-6804-4dce-b940-5ad3316ae61c
DTSTAMP:20260420T125839Z
DTSTART;VALUE=DATE:20270502
SUMMARY:Easter Sunday; Labor Day (Serbia)
END:VEVENT
END:VCALENDAR