BEGIN:VCALENDAR
VERSION:2.0
PRODID:-//time.you/holidays//NONSGML v1.0//EN
BEGIN:VEVENT
UID:ac70d28f-33b2-46d9-acb4-0993e8347494
DTSTAMP:20260421T122525Z
DTSTART;VALUE=DATE:20260412
SUMMARY:Easter Sunday (Serbia)
END:VEVENT
END:VCALENDAR